Workbook

Sheet MUAYYID - MATRIKS MANHAJ 1447 
A2: DEFINISI | B2: TUJUAN UMUM | C2: MUATAN | D2: TUJUAN MARHALAH | E2: INDIKATOR CAPAIAN | F2: 34 | G2: KODE MAWAD | H2: JUDUL MATERI | I2: LINK MODUL
A3: Yaitu tahapan penyiapan individu untuk menjadi anggota jamaah dakwah | B3: Mempersiapkan dan membina individu untuk siap bergabung secara resmi dengan jamaah dakwah | C3: Memuat pemahaman tentang pentingnya kerja dakwah secara kolektif dan urgensinya dalam rangka melayani Islam dan umat Muslim. | D3: 1. Memiliki pengetahuan ilmu-ilmu keislaman sesuai marhalahnya | E3: 1. Menerapkan adab interaksi dengan Al-Qur’an | F3: 1 | G3: M2_A_01 | H3: =VLOOKUP(G3,'MUAYYID - LIST MAWAD'!$B$3:$C$50,2,FALSE) -> Syuruth Al-Intifa' Bil-Qur'an (Syarat Mengambil Manfaat dari Al-Qur'an) | I3: =IFERROR(HYPERLINK(VLOOKUP(G3,'MUAYYID - LIST MAWAD'!$B$3:$E$200,4,FALSE),VLOOKUP(G3,'MUAYYID - LIST MAWAD'!$B$3:$E$200,4,FALSE)),"Belum ada modul!") -> M2_A_01_Syarat Mengambil Manfaat Dari Al-Qur'an.pdf
G4: M2_A_02 | H4: =VLOOKUP(G4,'MUAYYID - LIST MAWAD'!$B$3:$C$50,2,FALSE) -> Akhthar Hajr Al-Qur'an (Bahaya Meninggalkan Al-Qur'an) | I4: =IFERROR(HYPERLINK(VLOOKUP(G4,'MUAYYID - LIST MAWAD'!$B$3:$E$200,4,FALSE),VLOOKUP(G4,'MUAYYID - LIST MAWAD'!$B$3:$E$200,4,FALSE)),"Belum ada modul!") -> M2_A_02_Akhtharu Hajri Al-Qur'an (Bahaya Meninggalkan Al-Qur'an).pdf
E5: 2. Memperbaiki bacaan Al-Qur’an sesuai kaidah tajwid | F5: 2 | H5: Penugasan (Mengikuti Program Tahsin)
E6: 3. Membaca, menghafal Al-Qur’an sesuai kaidah tajwid 4. Melaksanakan tilawah, tadabbur, dan pengamalan Al-Qur’an secara rutin 5. Menunjukkan sikap penghormatan terhadap Al-Qur’an dan ulama tafsir dalam perilaku sehari-hari | F6: 3 | G6: M2_A_10 | H6: =VLOOKUP(G6,'MUAYYID - LIST MAWAD'!$B$3:$C$50,2,FALSE) -> Surat Abasa (80) 1-16 | I6: =IFERROR(HYPERLINK(VLOOKUP(G6,'MUAYYID - LIST MAWAD'!$B$3:$E$200,4,FALSE),VLOOKUP(G6,'MUAYYID - LIST MAWAD'!$B$3:$E$200,4,FALSE)),"Belum ada modul!") -> M2_A_10_Surat Abasa (80) 1-16.pdf
F7: 4 | G7: M2_A_11 | H7: =VLOOKUP(G7,'MUAYYID - LIST MAWAD'!$B$3:$C$50,2,FALSE) -> Surat Abasa (80) 17-33 | I7: =IFERROR(HYPERLINK(VLOOKUP(G7,'MUAYYID - LIST MAWAD'!$B$3:$E$200,4,FALSE),VLOOKUP(G7,'MUAYYID - LIST MAWAD'!$B$3:$E$200,4,FALSE)),"Belum ada modul!") -> M2_A_11_Surat Abasa (80) 17-33.pdf
G8: M2_A_12 | H8: =VLOOKUP(G8,'MUAYYID - LIST MAWAD'!$B$3:$C$50,2,FALSE) -> Surat Abasa (80) 33-42 | I8: =IFERROR(HYPERLINK(VLOOKUP(G8,'MUAYYID - LIST MAWAD'!$B$3:$E$200,4,FALSE),VLOOKUP(G8,'MUAYYID - LIST MAWAD'!$B$3:$E$200,4,FALSE)),"Belum ada modul!") -> M2_A_12_Surat Abasa (80) 33-42.pdf
F9: 5 | G9: M2_A_21 | H9: =VLOOKUP(G9,'MUAYYID - LIST MAWAD'!$B$3:$C$50,2,FALSE) -> Surat Al-Buruj (85) 1-11 | I9: =IFERROR(HYPERLINK(VLOOKUP(G9,'MUAYYID - LIST MAWAD'!$B$3:$E$200,4,FALSE),VLOOKUP(G9,'MUAYYID - LIST MAWAD'!$B$3:$E$200,4,FALSE)),"Belum ada modul!") -> M2_A_21_Surat Al-Buruj (85) 1-11.pdf
G10: M2_A_22 | H10: =VLOOKUP(G10,'MUAYYID - LIST MAWAD'!$B$3:$C$50,2,FALSE) -> Surat Al-Buruj (85) 12-22 | I10: =IFERROR(HYPERLINK(VLOOKUP(G10,'MUAYYID - LIST MAWAD'!$B$3:$E$200,4,FALSE),VLOOKUP(G10,'MUAYYID - LIST MAWAD'!$B$3:$E$200,4,FALSE)),"Belum ada modul!") -> M2_A_22_Surat Al-Buruj (85) 12-22.pdf
E11: 6. Membaca dan menghafal hadits dengan benar 7. Menerapkan sunnah dalam kehidupan sehari-hari 8. Menjelaskan dan menyimpulkan kandungan hadits | F11: 6 | G11: M2_B_01 | H11: =VLOOKUP(G11,'MUAYYID - LIST MAWAD'!$B$3:$C$50,2,FALSE) -> Hadits ke-11 Menghindari Hal Hal Yang Syubhat | I11: =IFERROR(HYPERLINK(VLOOKUP(G11,'MUAYYID - LIST MAWAD'!$B$3:$E$200,4,FALSE),VLOOKUP(G11,'MUAYYID - LIST MAWAD'!$B$3:$E$200,4,FALSE)),"Belum ada modul!") -> M2_B_01_Hadits ke-11 Menghindari Hal Hal Yang Syubhat.pdf
F12: 7 | G12: M2_B_02 | H12: =VLOOKUP(G12,'MUAYYID - LIST MAWAD'!$B$3:$C$50,2,FALSE) -> Hadits ke-12 Meninggalkan Hal Yang Tidak Bermanfaat | I12: =IFERROR(HYPERLINK(VLOOKUP(G12,'MUAYYID - LIST MAWAD'!$B$3:$E$200,4,FALSE),VLOOKUP(G12,'MUAYYID - LIST MAWAD'!$B$3:$E$200,4,FALSE)),"Belum ada modul!") -> M2_B_02_Hadits ke-12 Meninggalkan Hal Yang Tidak Bermanfaat.pdf
F13: 8 | G13: M2_B_03 | H13: =VLOOKUP(G13,'MUAYYID - LIST MAWAD'!$B$3:$C$50,2,FALSE) -> Hadits ke-13 Peduli Terhadap Urusan Dan Kepentingan Kaum Muslimin | I13: =IFERROR(HYPERLINK(VLOOKUP(G13,'MUAYYID - LIST MAWAD'!$B$3:$E$200,4,FALSE),VLOOKUP(G13,'MUAYYID - LIST MAWAD'!$B$3:$E$200,4,FALSE)),"Belum ada modul!") -> M2_B_03_Hadits ke-13 Peduli Terhadap Urusan Dan Kepentingan Kaum Muslimin.pdf
D14: 2. Mengetahui rukun-rukun iman dan pengaruhnya, serta melaksanakan ibadah dengan benar | E14: 1. Menjelaskan konsep dasar Aqidah | F14: 9 | G14: M2_C_01 | H14: =VLOOKUP(G14,'MUAYYID - LIST MAWAD'!$B$3:$C$50,2,FALSE) -> Istilah-istilah dan Referensi Akidah | I14: =IFERROR(HYPERLINK(VLOOKUP(G14,'MUAYYID - LIST MAWAD'!$B$3:$E$200,4,FALSE),VLOOKUP(G14,'MUAYYID - LIST MAWAD'!$B$3:$E$200,4,FALSE)),"Belum ada modul!") -> M2_C_01_Istilah dan Referensi Dalam Ilmu Aqidah.pdf
E15: 2. Menjelaskan karakteristik dan peran Aqidah dalam kehidupan | F15: 10 | G15: M2_C_02 | H15: =VLOOKUP(G15,'MUAYYID - LIST MAWAD'!$B$3:$C$50,2,FALSE) -> Karakteristik Akidah | I15: =IFERROR(HYPERLINK(VLOOKUP(G15,'MUAYYID - LIST MAWAD'!$B$3:$E$200,4,FALSE),VLOOKUP(G15,'MUAYYID - LIST MAWAD'!$B$3:$E$200,4,FALSE)),"Belum ada modul!") -> M2_C_02_Karakteristik Aqidah.pdf
E16: 3. Menunjukkan pengaruh Aqidah dalam sikap dan perilaku | F16: 11 | G16: M2_C_03 | H16: =VLOOKUP(G16,'MUAYYID - LIST MAWAD'!$B$3:$C$50,2,FALSE) -> Pengaruh Akidah terhadap Individu dan Masyarakat | I16: =IFERROR(HYPERLINK(VLOOKUP(G16,'MUAYYID - LIST MAWAD'!$B$3:$E$200,4,FALSE),VLOOKUP(G16,'MUAYYID - LIST MAWAD'!$B$3:$E$200,4,FALSE)),"Belum ada modul!") -> M2_C_03_Pengaruh Aqidah Islam Terhadap Individu dan Masyarakat.pdf
E17: 4. Melaksanakan ketaatan dalam kehidupan sehari-hari secara konsisten | F17: 12 | G17: M2_C_04 | H17: =VLOOKUP(G17,'MUAYYID - LIST MAWAD'!$B$3:$C$50,2,FALSE) -> Istiqamah | I17: =IFERROR(HYPERLINK(VLOOKUP(G17,'MUAYYID - LIST MAWAD'!$B$3:$E$200,4,FALSE),VLOOKUP(G17,'MUAYYID - LIST MAWAD'!$B$3:$E$200,4,FALSE)),"Belum ada modul!") -> M2_C_04_Istiqamah.pdf
E18: 5. Menjelaskan macam-macam fiqh shalat | F18: 13 | G18: M2_E_01 | H18: =VLOOKUP(G18,'MUAYYID - LIST MAWAD'!$B$3:$C$50,2,FALSE) -> Fiqih Shalat - 1 | I18: =IFERROR(HYPERLINK(VLOOKUP(G18,'MUAYYID - LIST MAWAD'!$B$3:$E$200,4,FALSE),VLOOKUP(G18,'MUAYYID - LIST MAWAD'!$B$3:$E$200,4,FALSE)),"Belum ada modul!") -> M2_E_01_Fiqih Shalat_Bag 1.pdf
G19: M2_E_02 | H19: =VLOOKUP(G19,'MUAYYID - LIST MAWAD'!$B$3:$C$50,2,FALSE) -> Fiqih Shalat - 2 | I19: =IFERROR(HYPERLINK(VLOOKUP(G19,'MUAYYID - LIST MAWAD'!$B$3:$E$200,4,FALSE),VLOOKUP(G19,'MUAYYID - LIST MAWAD'!$B$3:$E$200,4,FALSE)),"Belum ada modul!") -> M2_E_02_Fiqih Shalat_Bag 2.pdf
E20: 6. Membiasakan shalat berjamaah dan sunnah secara rutin | F20: 14 | G20: Penugas | H20: Penugasan (Mengisi Mutaba'ah Yaumiyah)
E21: 7. Melaksanakan puasa sesuai ketentuan syariat | F21: 15 | G21: M2_E_03 | H21: =VLOOKUP(G21,'MUAYYID - LIST MAWAD'!$B$3:$C$50,2,FALSE) -> Fiqih Puasa (Tata Cara Puasa) | I21: =IFERROR(HYPERLINK(VLOOKUP(G21,'MUAYYID - LIST MAWAD'!$B$3:$E$200,4,FALSE),VLOOKUP(G21,'MUAYYID - LIST MAWAD'!$B$3:$E$200,4,FALSE)),"Belum ada modul!") -> M2_E_03_Fiqih Puasa.pdf
D22: 3. Mengamalkan akhlak Islam | E22: 1. Menunjukkan perilaku jujur dalam berbagai situasi | F22: 16 | G22: M2_C_05 | H22: =VLOOKUP(G22,'MUAYYID - LIST MAWAD'!$B$3:$C$50,2,FALSE) -> Kejujuran dan Bahaya Dusta | I22: =IFERROR(HYPERLINK(VLOOKUP(G22,'MUAYYID - LIST MAWAD'!$B$3:$E$200,4,FALSE),VLOOKUP(G22,'MUAYYID - LIST MAWAD'!$B$3:$E$200,4,FALSE)),"Belum ada modul!") -> M2_C_05_Kejujuran dan Bahaya Dusta.pdf
E23: 2. Menjaga lisan dari ghibah dan namimah | F23: 17 | G23: M2_C_08 | H23: =VLOOKUP(G23,'MUAYYID - LIST MAWAD'!$B$3:$C$50,2,FALSE) -> Menjaga Lisan | I23: =IFERROR(HYPERLINK(VLOOKUP(G23,'MUAYYID - LIST MAWAD'!$B$3:$E$200,4,FALSE),VLOOKUP(G23,'MUAYYID - LIST MAWAD'!$B$3:$E$200,4,FALSE)),"Belum ada modul!") -> M2_C_08_Menjaga Lisan.pdf
G24: M2_C_09 | H24: =VLOOKUP(G24,'MUAYYID - LIST MAWAD'!$B$3:$C$50,2,FALSE) -> Ghibah dan Namimah | I24: =IFERROR(HYPERLINK(VLOOKUP(G24,'MUAYYID - LIST MAWAD'!$B$3:$E$200,4,FALSE),VLOOKUP(G24,'MUAYYID - LIST MAWAD'!$B$3:$E$200,4,FALSE)),"Belum ada modul!") -> M2_C_09_Ghibah dan Namimah.pdf
E25: 3. Menjaga kesucian diri dalam perilaku sehari-hari | F25: 18 | G25: M2_C_06 | H25: =VLOOKUP(G25,'MUAYYID - LIST MAWAD'!$B$3:$C$50,2,FALSE) -> Ketakwaan | I25: =IFERROR(HYPERLINK(VLOOKUP(G25,'MUAYYID - LIST MAWAD'!$B$3:$E$200,4,FALSE),VLOOKUP(G25,'MUAYYID - LIST MAWAD'!$B$3:$E$200,4,FALSE)),"Belum ada modul!") -> M2_C_06_Ketakwaan.pdf
G26: M2_C_10 | H26: =VLOOKUP(G26,'MUAYYID - LIST MAWAD'!$B$3:$C$50,2,FALSE) -> Menjaga Pandangan | I26: =IFERROR(HYPERLINK(VLOOKUP(G26,'MUAYYID - LIST MAWAD'!$B$3:$E$200,4,FALSE),VLOOKUP(G26,'MUAYYID - LIST MAWAD'!$B$3:$E$200,4,FALSE)),"Belum ada modul!") -> M2_C_10_Menjaga Pandangan.pdf
G27: M2_C_11 | H27: =VLOOKUP(G27,'MUAYYID - LIST MAWAD'!$B$3:$C$50,2,FALSE) -> Menjaga Kemaluan | I27: =IFERROR(HYPERLINK(VLOOKUP(G27,'MUAYYID - LIST MAWAD'!$B$3:$E$200,4,FALSE),VLOOKUP(G27,'MUAYYID - LIST MAWAD'!$B$3:$E$200,4,FALSE)),"Belum ada modul!") -> M2_C_11_Menjaga Kemaluan.pdf
G28: M2_C_12 | H28: =VLOOKUP(G28,'MUAYYID - LIST MAWAD'!$B$3:$C$50,2,FALSE) -> Penghasilan yang Halal | I28: =IFERROR(HYPERLINK(VLOOKUP(G28,'MUAYYID - LIST MAWAD'!$B$3:$E$200,4,FALSE),VLOOKUP(G28,'MUAYYID - LIST MAWAD'!$B$3:$E$200,4,FALSE)),"Belum ada modul!") -> M2_C_12_Penghasilan yang halal.pdf
E29: 4. Membiasakan sedekah dan silaturahmi | F29: 19 | G29: M2_C_07 | H29: =VLOOKUP(G29,'MUAYYID - LIST MAWAD'!$B$3:$C$50,2,FALSE) -> Sedekah | I29: =IFERROR(HYPERLINK(VLOOKUP(G29,'MUAYYID - LIST MAWAD'!$B$3:$E$200,4,FALSE),VLOOKUP(G29,'MUAYYID - LIST MAWAD'!$B$3:$E$200,4,FALSE)),"Belum ada modul!") -> M2_C_07_Sedekah.pdf
G30: M2_C_13 | H30: =VLOOKUP(G30,'MUAYYID - LIST MAWAD'!$B$3:$C$50,2,FALSE) -> Silaturahmi | I30: =IFERROR(HYPERLINK(VLOOKUP(G30,'MUAYYID - LIST MAWAD'!$B$3:$E$200,4,FALSE),VLOOKUP(G30,'MUAYYID - LIST MAWAD'!$B$3:$E$200,4,FALSE)),"Belum ada modul!") -> M2_C_13_Silaturrahmi.pdf
E31: 5. Menjaga batasan syar’i dalam pergaulan sehari-hari | F31: 20 | G31: M2_F_01 | H31: =VLOOKUP(G31,'MUAYYID - LIST MAWAD'!$B$3:$C$50,2,FALSE) -> Ash-Shira’u Bainal Haqqi Wal Bathil (Pertarungan Antara Kebenaran dan Kebatilan) | I31: =IFERROR(HYPERLINK(VLOOKUP(G31,'MUAYYID - LIST MAWAD'!$B$3:$E$200,4,FALSE),VLOOKUP(G31,'MUAYYID - LIST MAWAD'!$B$3:$E$200,4,FALSE)),"Belum ada modul!") -> M2_F_01_Ash-Shira' Bainal Haqqi Wal Bathil (Pertarungan Antara Kebenaran dan Kebatilan).pdf
E32: 6. Menunjukkan perilaku baik terhadap sesama mukmin | F32: 21 | G32: M2_F_03 | H32: =VLOOKUP(G32,'MUAYYID - LIST MAWAD'!$B$3:$C$50,2,FALSE) -> Hizbullah (Golongan Allah) | I32: =IFERROR(HYPERLINK(VLOOKUP(G32,'MUAYYID - LIST MAWAD'!$B$3:$E$200,4,FALSE),VLOOKUP(G32,'MUAYYID - LIST MAWAD'!$B$3:$E$200,4,FALSE)),"Belum ada modul!") -> M2_F_03_Hizbullah (Golongan Allah).pdf
D33: 4. Berusaha mengembangkan keterampilannya | E33: 1. Menggunakan bahasa Arab dasar dalam membaca, menulis, dan berbicara | F33: 22 | G33: M2_I_01 | H33: =VLOOKUP(G33,'MUAYYID - LIST MAWAD'!$B$3:$C$50,2,FALSE) -> Bahasa Arab Al-Mudah | I33: =IFERROR(HYPERLINK(VLOOKUP(G33,'MUAYYID - LIST MAWAD'!$B$3:$E$200,4,FALSE),VLOOKUP(G33,'MUAYYID - LIST MAWAD'!$B$3:$E$200,4,FALSE)),"Belum ada modul!") -> Menggunakan buku bahasa arab Al-Mudah
E34: 2. Menerapkan keterampilan berpikir dan pengembangan diri | F34: 23 | H34: Kegiatan Pelatihan Keterampilan Berpikir dan Pengembangan Diri
E35: 3. Menerapkan keterampilan komunikasi, manajemen diri, dan teknologi | F35: 24
D36: 5. Meyakini bahwa Islam itu menyeluruh | E36: 1. Menerapkan syariat dalam berpakaian, muamalah, dan sikap hidup | F36: 25 | G36: M2_F_02 | H36: =VLOOKUP(G36,'MUAYYID - LIST MAWAD'!$B$3:$C$50,2,FALSE) -> Al-Furqaan (Pembeda Antara Kebenaran dan Kebatilan) | I36: =IFERROR(HYPERLINK(VLOOKUP(G36,'MUAYYID - LIST MAWAD'!$B$3:$E$200,4,FALSE),VLOOKUP(G36,'MUAYYID - LIST MAWAD'!$B$3:$E$200,4,FALSE)),"Belum ada modul!") -> M2_F_02_Al-Furqaan (Pembeda Antara Kebenaran dan Kebatilan).pdf
E37: 2. Memahami manhaj dakwah Nabi | F37: 26 | G37: M2_F_01 | H37: =VLOOKUP(G37,'MUAYYID - LIST MAWAD'!$B$3:$C$50,2,FALSE) -> Ash-Shira’u Bainal Haqqi Wal Bathil (Pertarungan Antara Kebenaran dan Kebatilan) | I37: =IFERROR(HYPERLINK(VLOOKUP(G37,'MUAYYID - LIST MAWAD'!$B$3:$E$200,4,FALSE),VLOOKUP(G37,'MUAYYID - LIST MAWAD'!$B$3:$E$200,4,FALSE)),"Belum ada modul!") -> M2_F_01_Ash-Shira' Bainal Haqqi Wal Bathil (Pertarungan Antara Kebenaran dan Kebatilan).pdf
G38: M2_F_02 | H38: =VLOOKUP(G38,'MUAYYID - LIST MAWAD'!$B$3:$C$50,2,FALSE) -> Al-Furqaan (Pembeda Antara Kebenaran dan Kebatilan) | I38: =IFERROR(HYPERLINK(VLOOKUP(G38,'MUAYYID - LIST MAWAD'!$B$3:$E$200,4,FALSE),VLOOKUP(G38,'MUAYYID - LIST MAWAD'!$B$3:$E$200,4,FALSE)),"Belum ada modul!") -> M2_F_02_Al-Furqaan (Pembeda Antara Kebenaran dan Kebatilan).pdf
G39: M2_F_03 | H39: =VLOOKUP(G39,'MUAYYID - LIST MAWAD'!$B$3:$C$50,2,FALSE) -> Hizbullah (Golongan Allah) | I39: =IFERROR(HYPERLINK(VLOOKUP(G39,'MUAYYID - LIST MAWAD'!$B$3:$E$200,4,FALSE),VLOOKUP(G39,'MUAYYID - LIST MAWAD'!$B$3:$E$200,4,FALSE)),"Belum ada modul!") -> M2_F_03_Hizbullah (Golongan Allah).pdf
D40: 6. Mengetahui sejarah jamaah dakwah dan nilai-nilainya | E40: 1. Mengenal fikrah dan profil jamaah dakwah | F40: 27 | G40: M2_D_04 | H40: =VLOOKUP(G40,'MUAYYID - LIST MAWAD'!$B$3:$C$50,2,FALSE) -> Asaasu ‘Amaliyyati at-Takwin (Dasar-Dasar Proses Pembentukan) | I40: =IFERROR(HYPERLINK(VLOOKUP(G40,'MUAYYID - LIST MAWAD'!$B$3:$E$200,4,FALSE),VLOOKUP(G40,'MUAYYID - LIST MAWAD'!$B$3:$E$200,4,FALSE)),"Belum ada modul!") -> M2_D_04_Asaasu ‘Amaliyyatit Takwiin (Dasar-Dasar Proses Pembentukan).pdf
G41: M2_D_05 | H41: =VLOOKUP(G41,'MUAYYID - LIST MAWAD'!$B$3:$C$50,2,FALSE) -> Rabbaniyatu ad-Da’wah (Dakwah Yang Berorientasi Kepada Allah) | I41: =IFERROR(HYPERLINK(VLOOKUP(G41,'MUAYYID - LIST MAWAD'!$B$3:$E$200,4,FALSE),VLOOKUP(G41,'MUAYYID - LIST MAWAD'!$B$3:$E$200,4,FALSE)),"Belum ada modul!") -> M2_D_05_Rabbaniyatud Da’wah (Dakwah Yang Berorientasi Kepada Allah).pdf
G42: M2_D_07 | H42: =VLOOKUP(G42,'MUAYYID - LIST MAWAD'!$B$3:$C$50,2,FALSE) -> Dauru asy-Syabaabi Fi Hamli ar-Risaalah (Peran Pemuda dalam Mengemban Risalah) | I42: =IFERROR(HYPERLINK(VLOOKUP(G42,'MUAYYID - LIST MAWAD'!$B$3:$E$200,4,FALSE),VLOOKUP(G42,'MUAYYID - LIST MAWAD'!$B$3:$E$200,4,FALSE)),"Belum ada modul!") -> M2_D_07_Daurusy Syabaabi Fi Hamlir Risaalah (Peran Pemuda dalam Mengemban Risalah).pdf
D43: 7. Memiliki keinginan untuk bekerja secara kolektif dan terorganisir | E43: 1. Berkomitmen dalam amal jama’i dan fikrah Islam | F43: 28 | G43: M2_D_06 | H43: =VLOOKUP(G43,'MUAYYID - LIST MAWAD'!$B$3:$C$50,2,FALSE) -> Kaifa Yatakayyifu Bil Islaam (Bagaimana Beradaptasi dengan Islam) | I43: =IFERROR(HYPERLINK(VLOOKUP(G43,'MUAYYID - LIST MAWAD'!$B$3:$E$200,4,FALSE),VLOOKUP(G43,'MUAYYID - LIST MAWAD'!$B$3:$E$200,4,FALSE)),"Belum ada modul!") -> M2_D_06_Kaifa Yatakayyifu Bil Islaam (Bagaimana Beradaptasi dengan Islam).pdf
G44: M2_D_08 | H44: =VLOOKUP(G44,'MUAYYID - LIST MAWAD'!$B$3:$C$50,2,FALSE) -> Muqawwimaatu Nahdhati al-Ummah (Pilar-Pilar Kebangkitan Umat) | I44: =IFERROR(HYPERLINK(VLOOKUP(G44,'MUAYYID - LIST MAWAD'!$B$3:$E$200,4,FALSE),VLOOKUP(G44,'MUAYYID - LIST MAWAD'!$B$3:$E$200,4,FALSE)),"Belum ada modul!") -> M2_D_08_Muqawwimaatu Nahdhatil Ummah (Pilar-Pilar Kebangkitan Umat).pdf
E45: 2. Berpartisipasi dalam kegiatan sosial masyarakat | F45: 29 | G45: M2_G_01 | H45: =VLOOKUP(G45,'MUAYYID - LIST MAWAD'!$B$3:$C$50,2,FALSE) -> Inisiatif dan Peran Sosial dalam Dakwah | I45: =IFERROR(HYPERLINK(VLOOKUP(G45,'MUAYYID - LIST MAWAD'!$B$3:$E$200,4,FALSE),VLOOKUP(G45,'MUAYYID - LIST MAWAD'!$B$3:$E$200,4,FALSE)),"Belum ada modul!") -> M2_G_01_Inisiatif dan Peran Sosial dalam Dakwah.pdf
D46: 8. Mengetahui pentingnya keluarga dalam membangun masyarakat dan isu-isu terkait | E46: 1. Memahami problematika sosial | F46: 30 | G46: M2_G_02 | H46: =VLOOKUP(G46,'MUAYYID - LIST MAWAD'!$B$3:$C$50,2,FALSE) -> Tantangan Sosial Dalam Aspek Moral dan Solusi Islam | I46: =IFERROR(HYPERLINK(VLOOKUP(G46,'MUAYYID - LIST MAWAD'!$B$3:$E$200,4,FALSE),VLOOKUP(G46,'MUAYYID - LIST MAWAD'!$B$3:$E$200,4,FALSE)),"Belum ada modul!") -> M2_G_02_Tantangan Sosial Dalam Aspek Moral dan Solusi Islam.pdf
D47: 9. Mengenal beberapa titik penting dalam sejarah Islam, serta kondisi bangsa dan umat | E47: 1. Memahami kondisi dan problematika umat Islam | F47: 31 | G47: M2_G_03 | H47: =VLOOKUP(G47,'MUAYYID - LIST MAWAD'!$B$3:$C$50,2,FALSE) -> Dakwah Islam dalam Menyikapi Tantangan Modern | I47: =IFERROR(HYPERLINK(VLOOKUP(G47,'MUAYYID - LIST MAWAD'!$B$3:$E$200,4,FALSE),VLOOKUP(G47,'MUAYYID - LIST MAWAD'!$B$3:$E$200,4,FALSE)),"Belum ada modul!") -> M2_G_03_Dakwah Islam dalam Menyikapi Tantangan Modern.pdf
E48: 2. Memahami isu strategis umat Islam di Palestina | F48: 32 | G48: M2_G_04 | H48: =VLOOKUP(G48,'MUAYYID - LIST MAWAD'!$B$3:$C$50,2,FALSE) -> Jejak Perjuangan Umat Islam di Palestina | I48: =IFERROR(HYPERLINK(VLOOKUP(G48,'MUAYYID - LIST MAWAD'!$B$3:$E$200,4,FALSE),VLOOKUP(G48,'MUAYYID - LIST MAWAD'!$B$3:$E$200,4,FALSE)),"Belum ada modul!") -> M2_G_04_Jejak Perjuangan Umat Islam di Palestina.pdf
E49: 3. Memahami faktor kebangkitan umat dan pemikiran dakwah | F49: 33 | G49: M2_D_08 | H49: =VLOOKUP(G49,'MUAYYID - LIST MAWAD'!$B$3:$C$50,2,FALSE) -> Muqawwimaatu Nahdhati al-Ummah (Pilar-Pilar Kebangkitan Umat) | I49: =IFERROR(HYPERLINK(VLOOKUP(G49,'MUAYYID - LIST MAWAD'!$B$3:$E$200,4,FALSE),VLOOKUP(G49,'MUAYYID - LIST MAWAD'!$B$3:$E$200,4,FALSE)),"Belum ada modul!") -> M2_D_08_Muqawwimaatu Nahdhatil Ummah (Pilar-Pilar Kebangkitan Umat).pdf
E50: 4. Menunjukkan Sikap positif terhadap kebangsaan dan kewarganegaraan | F50: 34 | G50: M2_H_01 | H50: =VLOOKUP(G50,'MUAYYID - LIST MAWAD'!$B$3:$C$50,2,FALSE) -> Merespon isu-isu kontemporer dalam negara modern | I50: =IFERROR(HYPERLINK(VLOOKUP(G50,'MUAYYID - LIST MAWAD'!$B$3:$E$200,4,FALSE),VLOOKUP(G50,'MUAYYID - LIST MAWAD'!$B$3:$E$200,4,FALSE)),"Belum ada modul!") -> M2_H_01_Merespon isu-isu kontemporer dalam negara modern.pdf

Sheet MUAYYID - LIST MAWAD
A2: NO | B2: KODE MAWAD | C2: JUDUL MAWAD | D2: MAJAL | E2: LINK MODUL
A3: 1 | B3: M2_A_01 | C3: Syuruth Al-Intifa' Bil-Qur'an (Syarat Mengambil Manfaat dari Al-Qur'an) | D3: AL-QUR'AN DAN ILMU AL-QUR'AN | E3: M2_A_01_Syarat Mengambil Manfaat Dari Al-Qur'an.pdf
A4: 2 | B4: M2_A_02 | C4: Akhthar Hajr Al-Qur'an (Bahaya Meninggalkan Al-Qur'an) | D4: AL-QUR'AN DAN ILMU AL-QUR'AN | E4: M2_A_02_Akhtharu Hajri Al-Qur'an (Bahaya Meninggalkan Al-Qur'an).pdf
A5: 3 | B5: M2_A_10 | C5: Surat Abasa (80) 1-16 | D5: AL-QUR'AN DAN ILMU AL-QUR'AN | E5: M2_A_10_Surat Abasa (80) 1-16.pdf
A6: 4 | B6: M2_A_11 | C6: Surat Abasa (80) 17-33 | D6: AL-QUR'AN DAN ILMU AL-QUR'AN | E6: M2_A_11_Surat Abasa (80) 17-33.pdf
A7: 5 | B7: M2_A_12 | C7: Surat Abasa (80) 33-42 | D7: AL-QUR'AN DAN ILMU AL-QUR'AN | E7: M2_A_12_Surat Abasa (80) 33-42.pdf
A8: 6 | B8: M2_A_21 | C8: Surat Al-Buruj (85) 1-11 | D8: AL-QUR'AN DAN ILMU AL-QUR'AN | E8: M2_A_21_Surat Al-Buruj (85) 1-11.pdf
A9: 7 | B9: M2_A_22 | C9: Surat Al-Buruj (85) 12-22 | D9: AL-QUR'AN DAN ILMU AL-QUR'AN | E9: M2_A_22_Surat Al-Buruj (85) 12-22.pdf
A10: 8 | B10: M2_B_01 | C10: Hadits ke-11 Menghindari Hal Hal Yang Syubhat | D10: HADITS DAN ILMU HADITS | E10: M2_B_01_Hadits ke-11 Menghindari Hal Hal Yang Syubhat.pdf
A11: 9 | B11: M2_B_02 | C11: Hadits ke-12 Meninggalkan Hal Yang Tidak Bermanfaat | D11: HADITS DAN ILMU HADITS | E11: M2_B_02_Hadits ke-12 Meninggalkan Hal Yang Tidak Bermanfaat.pdf
A12: 10 | B12: M2_B_03 | C12: Hadits ke-13 Peduli Terhadap Urusan Dan Kepentingan Kaum Muslimin | D12: HADITS DAN ILMU HADITS | E12: M2_B_03_Hadits ke-13 Peduli Terhadap Urusan Dan Kepentingan Kaum Muslimin.pdf
A13: 11 | B13: M2_C_01 | C13: Istilah-istilah dan Referensi Akidah | D13: AQIDAH DAN AKHLAK | E13: M2_C_01_Istilah dan Referensi Dalam Ilmu Aqidah.pdf
A14: 12 | B14: M2_C_02 | C14: Karakteristik Akidah | D14: AQIDAH DAN AKHLAK | E14: M2_C_02_Karakteristik Aqidah.pdf
... A46: 44 | B46: M2_I_02 | C46: Pelatihan Keterampilan Berpikir dan Pengembangan Diri | D46: LIFE SKILL | E46: Disampaikan dalam bentuk kegiatan pelatihan
